BEGIN:VCALENDAR
VERSION:2.0
PRODID:-//ChamberMaster//Event Calendar 2.0//EN
METHOD:PUBLISH
X-PUBLISHED-TTL:P3D
REFRESH-INTERVAL:P3D
CALSCALE:GREGORIAN
BEGIN:VEVENT
DTSTART:20100129T003000Z
DTEND:20100129T023000Z
X-MICROSOFT-CDO-ALLDAYEVENT:FALSE
SUMMARY:Golden Palms Wine Tasting Benefit for Haiti
DESCRIPTION:Golden Palms will be hosting a Wine Tasting on Thursday\, January 28 from 6:30 to 8:30 pm.  The event will benefit the victims of the earthquake in Haiti.  Tickets are $20 per person payable at the event.  A group of physicians\, nurses & surgical teams from the area are raising money to go to Haiti to offer their medical services to these unfortunate victims.  For more information\, please contact Norma Castillo at 956-389-4653.
X-ALT-DESC;FMTTYPE=text/html:Golden Palms will be hosting a Wine Tasting on Thursday\, January 28 from 6:30 to 8:30 pm.  The event will benefit the victims of the earthquake in Haiti.  Tickets are $20 per person payable at the event.  A group of physicians\, nurses & surgical teams from the area are raising money to go to Haiti to offer their medical services to these unfortunate victims.  For more information\, please contact Norma Castillo at 956-389-4653.
LOCATION:The Wine Tasting will be held in the Texas Room
UID:e.1828.2340
SEQUENCE:3
DTSTAMP:20260422T112807Z
URL:https://business.harlingen.com/events/details/golden-palms-wine-tasting-benefit-for-haiti-01-28-2010-2340
END:VEVENT

END:VCALENDAR
