BEGIN:VCALENDAR
VERSION:2.0
PRODID:-//ChamberMaster//Event Calendar 2.0//EN
METHOD:PUBLISH
X-PUBLISHED-TTL:P3D
REFRESH-INTERVAL:P3D
CALSCALE:GREGORIAN
BEGIN:VEVENT
DTSTART:20101206T003000Z
DTEND:20101206T013000Z
X-MICROSOFT-CDO-ALLDAYEVENT:FALSE
SUMMARY:Gomer Pyle
DESCRIPTION:Admission is $4.00 per person.  For more information please call Rida Penney at 956-428-7116
X-ALT-DESC;FMTTYPE=text/html:Admission is $4.00 per person.  For more information please call Rida Penney at 956-428-7116
LOCATION:
UID:e.1828.2850
SEQUENCE:3
DTSTAMP:20260421T171223Z
URL:https://business.harlingen.com/events/details/gomer-pyle-12-05-2010-2850
END:VEVENT

END:VCALENDAR
