BEGIN:VCALENDAR
VERSION:2.0
PRODID:-//ChamberMaster//Event Calendar 2.0//EN
METHOD:PUBLISH
X-PUBLISHED-TTL:P3D
REFRESH-INTERVAL:P3D
CALSCALE:GREGORIAN
BEGIN:VEVENT
DTSTART:20120105T143000Z
DTEND:20120105T143000Z
X-MICROSOFT-CDO-ALLDAYEVENT:FALSE
SUMMARY:"Good Morning Downtown" Coffee
DESCRIPTION:Come for coffee and conversation about what's happening in Downtown Harlingen!    Learn about upcoming downtown events\, including a Vintage Style Show Jan 28 and the Texas Main Street Winter Training Feb 7-10.  Hear about Harlingen Arts & Heritage Museum projects\, including a new DVD and brochure\, and upcoming exhibits.  Guest speakers from the Winter Texan Times\, City Planning Department\, and more!  \n\nCoffee and breakfast treats courtesy of the Jackson Square Events Center.  Door prizes too!  \n\nFree and open to the public ... bring a friend!  For more info\, call the Harlingen Downtown Office\, 216-4910.\n\n(Best to park in the large private lot behind the Jackson Square Events Center -- on Monroe between 3rd & 4th -- or on 3rd Street.)
X-ALT-DESC;FMTTYPE=text/html:Come for coffee and conversation about what's happening in Downtown Harlingen!    Learn about upcoming downtown events\, including a Vintage Style Show Jan 28 and the Texas Main Street Winter Training Feb 7-10.  Hear about Harlingen Arts & Heritage Museum projects\, including a new DVD and brochure\, and upcoming exhibits.  Guest speakers from the Winter Texan Times\, City Planning Department\, and more!  \n\nCoffee and breakfast treats courtesy of the Jackson Square Events Center.  Door prizes too!  \n\nFree and open to the public ... bring a friend!  For more info\, call the Harlingen Downtown Office\, 216-4910.\n\n(Best to park in the large private lot behind the Jackson Square Events Center -- on Monroe between 3rd & 4th -- or on 3rd Street.)\n
LOCATION:
UID:e.1828.3350
SEQUENCE:3
DTSTAMP:20260420T225342Z
URL:https://business.harlingen.com/events/details/good-morning-downtown-coffee-01-05-2012-3350
END:VEVENT

END:VCALENDAR
