BEGIN:VCALENDAR
VERSION:2.0
PRODID:-//ChamberMaster//Event Calendar 2.0//EN
METHOD:PUBLISH
X-PUBLISHED-TTL:P3D
REFRESH-INTERVAL:P3D
CALSCALE:GREGORIAN
BEGIN:VEVENT
DTSTART:20110106T143000Z
DTEND:20110106T143000Z
X-MICROSOFT-CDO-ALLDAYEVENT:FALSE
SUMMARY:"Good Morning Downtown Coffee "
DESCRIPTION:Come for coffee\, donuts\, and conversation about what's happening in Downtown Harlingen! Guest speakers on upcoming improvement projects\, the Shop Hop planned for late January\, & more!  Door prizes too!  Free and open to the public ... bring a friend!  For more info\, call the Harlingen Downtown Office\, 956-216-4910.
X-ALT-DESC;FMTTYPE=text/html:Come for coffee\, donuts\, and conversation about what's happening in Downtown Harlingen! Guest speakers on upcoming improvement projects\, the Shop Hop planned for late January\, & more!  Door prizes too!  Free and open to the public ... bring a friend!  For more info\, call the Harlingen Downtown Office\, 956-216-4910.\n
LOCATION:
UID:e.1828.2877
SEQUENCE:3
DTSTAMP:20260421T154508Z
URL:https://business.harlingen.com/events/details/good-morning-downtown-coffee-01-06-2011-2877
END:VEVENT

END:VCALENDAR
