BEGIN:VCALENDAR
VERSION:2.0
PRODID:-//ChamberMaster//Event Calendar 2.0//EN
METHOD:PUBLISH
X-PUBLISHED-TTL:P3D
REFRESH-INTERVAL:P3D
CALSCALE:GREGORIAN
BEGIN:VEVENT
DTSTART:20100107T143000Z
DTEND:20100107T153000Z
X-MICROSOFT-CDO-ALLDAYEVENT:FALSE
SUMMARY:"Good Morning Downtown" Coffee
DESCRIPTION:Arrive as early as 8:00 a.m. for complimentary breakfast!  Learn what's happening in Downtown Harlingen including two major construction projects getting underway\, the January "Shop Hop" and more.  Free and open to the public ... bring a friend!  Coffee and breakfast courtesy of Lupita's on Jackson.  For more information\, call the Harlingen Downtown Office at 956-216-4910.
X-ALT-DESC;FMTTYPE=text/html:Arrive as early as 8:00 a.m. for complimentary breakfast!  Learn what's happening in Downtown Harlingen including two major construction projects getting underway\, the January "Shop Hop" and more.  Free and open to the public ... bring a friend!  Coffee and breakfast courtesy of Lupita's on Jackson.  For more information\, call the Harlingen Downtown Office at 956-216-4910.\n
LOCATION:
UID:e.1828.2298
SEQUENCE:3
DTSTAMP:20260422T111724Z
URL:https://business.harlingen.com/events/details/good-morning-downtown-coffee-01-07-2010-2298
END:VEVENT

END:VCALENDAR
