BEGIN:VCALENDAR
VERSION:2.0
PRODID:-//ChamberMaster//Event Calendar 2.0//EN
METHOD:PUBLISH
X-PUBLISHED-TTL:P3D
REFRESH-INTERVAL:P3D
CALSCALE:GREGORIAN
BEGIN:VEVENT
DTSTART:20120202T143000Z
DTEND:20120202T143000Z
X-MICROSOFT-CDO-ALLDAYEVENT:FALSE
SUMMARY:Good Morning Downtown" Coffee
DESCRIPTION:Come for coffee and conversation about what's happening in Downtown Harlingen! Learn about new businesses and get info on downtown events\, including a Valentine's Stroll Feb. 8 and the Texas Main Street Winter Training Feb 7-10. Guest speakers from the new RGV+ Beyond Arts & More. Coffee\, muffins\, and pastries courtesy of A Cherished Event. Door prizes too! Free and open to the public ... bring a friend! For more info\, call the Harlingen Downtown Office\, 216-4910.
X-ALT-DESC;FMTTYPE=text/html:Come for coffee and conversation about what's happening in Downtown Harlingen! Learn about new businesses and get info on downtown events\, including a Valentine's Stroll Feb. 8 and the Texas Main Street Winter Training Feb 7-10. Guest speakers from the new RGV+ Beyond Arts & More. Coffee\, muffins\, and pastries courtesy of A Cherished Event. Door prizes too! Free and open to the public ... bring a friend! For more info\, call the Harlingen Downtown Office\, 216-4910.\n \n
LOCATION:
UID:e.1828.3392
SEQUENCE:3
DTSTAMP:20260420T211503Z
URL:https://business.harlingen.com/events/details/good-morning-downtown-coffee-02-02-2012-3392
END:VEVENT

END:VCALENDAR
