BEGIN:VCALENDAR
VERSION:2.0
PRODID:-//ChamberMaster//Event Calendar 2.0//EN
METHOD:PUBLISH
X-PUBLISHED-TTL:P3D
REFRESH-INTERVAL:P3D
CALSCALE:GREGORIAN
BEGIN:VEVENT
DTSTART:20110203T143000Z
DTEND:20110203T143000Z
X-MICROSOFT-CDO-ALLDAYEVENT:FALSE
SUMMARY:Good Morning Downtown Coffee
DESCRIPTION:Come for coffee\, breakfast treats\, and conversation about Downtown Harlingen.  Get an update on commercial leasing and residential condo opportunties at The Reese\, Harlingen's first mixed use development.  Learn about a new transit service between downtown and Harlingen/San Benito RV Parks\, hear about loans and technical assistance available through the Small Business Association\, and more.  \n Free and open to the public ... door prizes too! \n For more info\, call the Harlingen Downtown Office\, 216-4910.
X-ALT-DESC;FMTTYPE=text/html:Come for coffee\, breakfast treats\, and conversation about Downtown Harlingen.  Get an update on commercial leasing and residential condo opportunties at The Reese\, Harlingen's first mixed use development.  Learn about a new transit service between downtown and Harlingen/San Benito RV Parks\, hear about loans and technical assistance available through the Small Business Association\, and more.  \n Free and open to the public ... door prizes too! \n For more info\, call the Harlingen Downtown Office\, 216-4910.\n
LOCATION:Northwest corner of Jackson & First
UID:e.1828.2905
SEQUENCE:3
DTSTAMP:20260421T142215Z
URL:https://business.harlingen.com/events/details/good-morning-downtown-coffee-02-03-2011-2905
END:VEVENT

END:VCALENDAR
