BEGIN:VCALENDAR
VERSION:2.0
PRODID:-//ChamberMaster//Event Calendar 2.0//EN
METHOD:PUBLISH
X-PUBLISHED-TTL:P3D
REFRESH-INTERVAL:P3D
CALSCALE:GREGORIAN
BEGIN:VEVENT
DTSTART:20100204T143000Z
DTEND:20100204T143000Z
X-MICROSOFT-CDO-ALLDAYEVENT:FALSE
SUMMARY:"Good Morning Downtown" Coffee
DESCRIPTION:Come for coffee and conversation about what's happening in Downtown Harlingen\, including upcoming events\, new businesses\, and more!  Free and open to the public.  Coffee and breakfast treats courtesy of the NEW Sweet Memories Wedding Chapel.  For more info\, call the Harlingen Downtown Office\, (956) 216-4910.
X-ALT-DESC;FMTTYPE=text/html:Come for coffee and conversation about what's happening in Downtown Harlingen\, including upcoming events\, new businesses\, and more!  Free and open to the public.  Coffee and breakfast treats courtesy of the NEW Sweet Memories Wedding Chapel.  For more info\, call the Harlingen Downtown Office\, (956) 216-4910.\n
LOCATION:Next to Quelle Boutique
UID:e.1828.2357
SEQUENCE:3
DTSTAMP:20260422T111725Z
URL:https://business.harlingen.com/events/details/good-morning-downtown-coffee-02-04-2010-2357
END:VEVENT

END:VCALENDAR
