BEGIN:VCALENDAR
VERSION:2.0
PRODID:-//ChamberMaster//Event Calendar 2.0//EN
METHOD:PUBLISH
X-PUBLISHED-TTL:P3D
REFRESH-INTERVAL:P3D
CALSCALE:GREGORIAN
BEGIN:VEVENT
DTSTART:20120301T143000Z
DTEND:20120301T143000Z
X-MICROSOFT-CDO-ALLDAYEVENT:FALSE
SUMMARY:"Good Morning Downtown" Coffee
DESCRIPTION:Come for coffee and conversation about what's happening in Downtown Harlingen!    Learn about upcoming events\, including the Mayor's Prayer Breakfast and the Jackson Street Classic Car Show.  Learn about an organizational meeting for a new Lower Valley Restaurant Association\, get an update on the Harlingen Housing Authority\, and more!  \n\nCoffee\, juice\, and pastries courtesy of the Harlingen Housing Authority.  Door prizes too!  \n\nFree and open to the public ... bring a friend!  For more info\, call the Harlingen Downtown Office\, 216-4910.
X-ALT-DESC;FMTTYPE=text/html:Come for coffee and conversation about what's happening in Downtown Harlingen!    Learn about upcoming events\, including the Mayor's Prayer Breakfast and the Jackson Street Classic Car Show.  Learn about an organizational meeting for a new Lower Valley Restaurant Association\, get an update on the Harlingen Housing Authority\, and more!  \n\nCoffee\, juice\, and pastries courtesy of the Harlingen Housing Authority.  Door prizes too!  \n\nFree and open to the public ... bring a friend!  For more info\, call the Harlingen Downtown Office\, 216-4910.\n
LOCATION:
UID:e.1828.3466
SEQUENCE:3
DTSTAMP:20260420T194854Z
URL:https://business.harlingen.com/events/details/good-morning-downtown-coffee-03-01-2012-3466
END:VEVENT

END:VCALENDAR
