BEGIN:VCALENDAR
VERSION:2.0
PRODID:-//ChamberMaster//Event Calendar 2.0//EN
METHOD:PUBLISH
X-PUBLISHED-TTL:P3D
REFRESH-INTERVAL:P3D
CALSCALE:GREGORIAN
BEGIN:VEVENT
DTSTART:20110303T143000Z
DTEND:20110303T143000Z
X-MICROSOFT-CDO-ALLDAYEVENT:FALSE
SUMMARY:"Good Morning Downtown" Coffee
DESCRIPTION:Come for coffee\, pastries\, and conversation about Downtown Harlingen.  Get an update on commercial leasing and residential condo opportunties at The Reese\, Harlingen's first mixed use development.  Meet Harlingen's new Planning & Development Director\, learn about a new transit service between downtown and Harlingen/San Benito RV Parks\, hear about loans and technical assistance available through the Small Business Association\, and more.  Free and open to the public ... door prizes too!  Coffee and pastries courtesy of Capital One Bank.  For more info\, call the Harlingen Downtown Office\, 216-4910.
X-ALT-DESC;FMTTYPE=text/html:Come for coffee\, pastries\, and conversation about Downtown Harlingen.  Get an update on commercial leasing and residential condo opportunties at The Reese\, Harlingen's first mixed use development.  Meet Harlingen's new Planning & Development Director\, learn about a new transit service between downtown and Harlingen/San Benito RV Parks\, hear about loans and technical assistance available through the Small Business Association\, and more.  Free and open to the public ... door prizes too!  Coffee and pastries courtesy of Capital One Bank.  For more info\, call the Harlingen Downtown Office\, 216-4910.\n
LOCATION:
UID:e.1828.2977
SEQUENCE:3
DTSTAMP:20260421T124437Z
URL:https://business.harlingen.com/events/details/good-morning-downtown-coffee-03-03-2011-2977
END:VEVENT

END:VCALENDAR
