BEGIN:VCALENDAR
VERSION:2.0
PRODID:-//ChamberMaster//Event Calendar 2.0//EN
METHOD:PUBLISH
X-PUBLISHED-TTL:P3D
REFRESH-INTERVAL:P3D
CALSCALE:GREGORIAN
BEGIN:VEVENT
DTSTART:20100401T133000Z
DTEND:20100401T133000Z
X-MICROSOFT-CDO-ALLDAYEVENT:FALSE
SUMMARY:"Good Morning Downtown" Coffee
DESCRIPTION:Come for coffee and conversation about what's happening in Downtown Harlingen.  Harlingen's Planning & Development Director will review proposed changes to the ordinance on downtown bars.  Get an update on the Jackson Street Classic Car Show on April 3\, the arrival of a historic Steam Train and "History of Mexico" mural dedication on April 15\, Centennial Parade on April 17\, Street Dance on April 24\, and more!  Free and open to the public ... bring a friend!  Coffee and pan dulce courtesy of Rio Grande Grill.  For more info\, call the Harlingen Downtown Office\, 216-4910.
X-ALT-DESC;FMTTYPE=text/html:Come for coffee and conversation about what's happening in Downtown Harlingen.  Harlingen's Planning & Development Director will review proposed changes to the ordinance on downtown bars.  Get an update on the Jackson Street Classic Car Show on April 3\, the arrival of a historic Steam Train and "History of Mexico" mural dedication on April 15\, Centennial Parade on April 17\, Street Dance on April 24\, and more!  Free and open to the public ... bring a friend!  Coffee and pan dulce courtesy of Rio Grande Grill.  For more info\, call the Harlingen Downtown Office\, 216-4910.\n
LOCATION:
UID:e.1828.2471
SEQUENCE:3
DTSTAMP:20260422T061520Z
URL:https://business.harlingen.com/events/details/good-morning-downtown-coffee-04-01-2010-2471
END:VEVENT

END:VCALENDAR
