BEGIN:VCALENDAR
VERSION:2.0
PRODID:-//ChamberMaster//Event Calendar 2.0//EN
METHOD:PUBLISH
X-PUBLISHED-TTL:P3D
REFRESH-INTERVAL:P3D
CALSCALE:GREGORIAN
BEGIN:VEVENT
DTSTART:20120405T133000Z
DTEND:20120405T133000Z
X-MICROSOFT-CDO-ALLDAYEVENT:FALSE
SUMMARY:"Good Morning Downtown" Coffee
DESCRIPTION:Come for coffee and conversation about what's happening in Downtown Harlingen!   Learn about the Jackson Street Classic Car Show on April 14th and development of a Harlingen-San Benito Bicycle & Pedestrian Plan.  Plus\, get an update on the Girl Scouts of Greater South Texas\, and more!  Coffee and specialty cupcakes courtesy of Buggy's Beads.  Door prizes too!  \n\nFree and open to the public ... bring a friend!  For more info\, call the Harlingen Downtown Office\, 216-4910.
X-ALT-DESC;FMTTYPE=text/html:Come for coffee and conversation about what's happening in Downtown Harlingen!   Learn about the Jackson Street Classic Car Show on April 14th and development of a Harlingen-San Benito Bicycle & Pedestrian Plan.  Plus\, get an update on the Girl Scouts of Greater South Texas\, and more!  Coffee and specialty cupcakes courtesy of Buggy's Beads.  Door prizes too!  \n\nFree and open to the public ... bring a friend!  For more info\, call the Harlingen Downtown Office\, 216-4910.\n\n
LOCATION:lots of parking in the Public Lot south of The Reese @ Commerce & Harrison
UID:e.1828.3605
SEQUENCE:3
DTSTAMP:20260420T163159Z
URL:https://business.harlingen.com/events/details/good-morning-downtown-coffee-04-05-2012-3605
END:VEVENT

END:VCALENDAR
