BEGIN:VCALENDAR
VERSION:2.0
PRODID:-//ChamberMaster//Event Calendar 2.0//EN
METHOD:PUBLISH
X-PUBLISHED-TTL:P3D
REFRESH-INTERVAL:P3D
CALSCALE:GREGORIAN
BEGIN:VEVENT
DTSTART:20110407T133000Z
DTEND:20110407T133000Z
X-MICROSOFT-CDO-ALLDAYEVENT:FALSE
SUMMARY:"Good Morning Downtown" Coffee
DESCRIPTION:Come for coffee and conversation about what's happening in Downtown Harlingen.  Hear about Colletti's Italian Restaurant opening soon at The Reese.  Learn about services available through the Women's Business Center.  Get an update on the 4th annual Jackson Street Classic Car Show April 9th\, and hear about plans for the Jackson Square Event Center\, now under new management!  Free and open to the public ... bring a friend!  Coffee and breakfast treats courtesy of Simply Elegant\, door prizes too.  For more info\, call the Harlingen Downtown Office\, 216-4910.
X-ALT-DESC;FMTTYPE=text/html:Come for coffee and conversation about what's happening in Downtown Harlingen.  Hear about Colletti's Italian Restaurant opening soon at The Reese.  Learn about services available through the Women's Business Center.  Get an update on the 4th annual Jackson Street Classic Car Show April 9th\, and hear about plans for the Jackson Square Event Center\, now under new management!  Free and open to the public ... bring a friend!  Coffee and breakfast treats courtesy of Simply Elegant\, door prizes too.  For more info\, call the Harlingen Downtown Office\, 216-4910.\n
LOCATION:(NW corner of Jackson & 1st Street)
UID:e.1828.3015
SEQUENCE:3
DTSTAMP:20260421T111636Z
URL:https://business.harlingen.com/events/details/good-morning-downtown-coffee-04-07-2011-3015
END:VEVENT

END:VCALENDAR
