BEGIN:VCALENDAR
VERSION:2.0
PRODID:-//ChamberMaster//Event Calendar 2.0//EN
METHOD:PUBLISH
X-PUBLISHED-TTL:P3D
REFRESH-INTERVAL:P3D
CALSCALE:GREGORIAN
BEGIN:VEVENT
DTSTART:20120503T133000Z
DTEND:20120503T143000Z
X-MICROSOFT-CDO-ALLDAYEVENT:FALSE
SUMMARY:"Good Morning Downtown" Coffee
DESCRIPTION:Come for coffee and conversation about what's happening in Downtown Harlingen!   Downtown events in May include Simply Elegant's Anniversary Mixer (May 3)\, Free Comic Book Day (May 5)\, and two activities celebrating National Preservation Month:  a Scavenger Hunt and a Photo Contest.  Plus\, get an update on Harlingen's summer Recreation Programs.  Guest speakers from KMBH\, U.S Customs and Border Protection\, and TSTC Corporate and Community Education -- lots of great info!  Enjoy coffee\, juice\, and pastries courtesy of D'Arte Centre.  Door prizes too!  \n \nFree and open to the public ...bring a friend!  For more info\, call the Harlingen Downtown Office\, \n(956) 216-4910.
X-ALT-DESC;FMTTYPE=text/html:Come for coffee and conversation about what's happening in Downtown Harlingen!   Downtown events in May include Simply Elegant's Anniversary Mixer (May 3)\, Free Comic Book Day (May 5)\, and two activities celebrating National Preservation Month:  a Scavenger Hunt and a Photo Contest.  Plus\, get an update on Harlingen's summer Recreation Programs.  Guest speakers from KMBH\, U.S Customs and Border Protection\, and TSTC Corporate and Community Education -- lots of great info!  Enjoy coffee\, juice\, and pastries courtesy of D'Arte Centre.  Door prizes too!  \n \nFree and open to the public ...bring a friend!  For more info\, call the Harlingen Downtown Office\, \n(956) 216-4910.\n
LOCATION:
UID:e.1828.3636
SEQUENCE:3
DTSTAMP:20260420T163319Z
URL:https://business.harlingen.com/events/details/good-morning-downtown-coffee-05-03-2012-3636
END:VEVENT

END:VCALENDAR
