BEGIN:VCALENDAR
VERSION:2.0
PRODID:-//ChamberMaster//Event Calendar 2.0//EN
METHOD:PUBLISH
X-PUBLISHED-TTL:P3D
REFRESH-INTERVAL:P3D
CALSCALE:GREGORIAN
BEGIN:VEVENT
DTSTART:20110505T133000Z
DTEND:20110505T143000Z
X-MICROSOFT-CDO-ALLDAYEVENT:FALSE
SUMMARY:Good Morning Downtown" Coffee
DESCRIPTION:Come for coffee\, donuts\, and to see this beautiful event center\, now under new management!  Guest speakers from the Metropolitan Planning Organization\, Harlingen Parks & Recreation\, and several local businesses\, plus a special presentation on Harlingen Murals.  Free and open to the public ... bring a friend!  Coffee and breakfast treats courtesy of Jackson Square Event Center.  Door prizes too.  For more info\, call the Harlingen Downtown Office\, 216-4910.
X-ALT-DESC;FMTTYPE=text/html:Come for coffee\, donuts\, and to see this beautiful event center\, now under new management!  Guest speakers from the Metropolitan Planning Organization\, Harlingen Parks & Recreation\, and several local businesses\, plus a special presentation on Harlingen Murals.  Free and open to the public ... bring a friend!  Coffee and breakfast treats courtesy of Jackson Square Event Center.  Door prizes too.  For more info\, call the Harlingen Downtown Office\, 216-4910.\n
LOCATION:(parking lot behind the building on Monroe)
UID:e.1828.3040
SEQUENCE:3
DTSTAMP:20260421T094141Z
URL:https://business.harlingen.com/events/details/good-morning-downtown-coffee-05-05-2011-3040
END:VEVENT

END:VCALENDAR
