BEGIN:VCALENDAR
VERSION:2.0
PRODID:-//ChamberMaster//Event Calendar 2.0//EN
METHOD:PUBLISH
X-PUBLISHED-TTL:P3D
REFRESH-INTERVAL:P3D
CALSCALE:GREGORIAN
BEGIN:VEVENT
DTSTART:20100603T133000Z
DTEND:20100603T133000Z
X-MICROSOFT-CDO-ALLDAYEVENT:FALSE
SUMMARY:"Good Morning Downtown" Coffee
DESCRIPTION:Come for coffee and conversation about what's happening in Downtown Harlingen\, including upcoming Family Movie Nights\, new businesses\, and possible renewal of the public improvement assessment district.  Free and open to the public -- bring a friend!  Coffee and pastries courtesy of the NEW Ol' D's Soda Shop.  For more info\, call the Harlingen Downtown Office\, (956) 216-4910.
X-ALT-DESC;FMTTYPE=text/html:Come for coffee and conversation about what's happening in Downtown Harlingen\, including upcoming Family Movie Nights\, new businesses\, and possible renewal of the public improvement assessment district.  Free and open to the public -- bring a friend!  Coffee and pastries courtesy of the NEW Ol' D's Soda Shop.  For more info\, call the Harlingen Downtown Office\, (956) 216-4910.\n
LOCATION:(Formerly Main Street Grill)
UID:e.1828.2542
SEQUENCE:3
DTSTAMP:20260422T031142Z
URL:https://business.harlingen.com/events/details/good-morning-downtown-coffee-06-03-2010-2542
END:VEVENT

END:VCALENDAR
