BEGIN:VCALENDAR
VERSION:2.0
PRODID:-//ChamberMaster//Event Calendar 2.0//EN
METHOD:PUBLISH
X-PUBLISHED-TTL:P3D
REFRESH-INTERVAL:P3D
CALSCALE:GREGORIAN
BEGIN:VEVENT
DTSTART:20120607T133000Z
DTEND:20120607T143000Z
X-MICROSOFT-CDO-ALLDAYEVENT:FALSE
SUMMARY:"Good Morning Downtown" Coffee
DESCRIPTION:Come for coffee and conversation about what's happening in Downtown Harlingen!   Learn about Family Movie Nights in June\, July\, and August and plans for Harlingen's 4th of July celebrations.  Plus\, enjoy a special presentation of photos taken by O.N. Bard at Downtown parades from 1958-1963.  Guest speakers from South Texas Emergency Care Foundation\, and more!  Enjoy coffee and pastries courtesy of Ol' D's Soda Shop.  Door prizes too!  Free and open to the public ... bring a friend!  For more info\, call the Harlingen Downtown Office\, 216-4910.
X-ALT-DESC;FMTTYPE=text/html:Come for coffee and conversation about what's happening in Downtown Harlingen!   Learn about Family Movie Nights in June\, July\, and August and plans for Harlingen's 4th of July celebrations.  Plus\, enjoy a special presentation of photos taken by O.N. Bard at Downtown parades from 1958-1963.  Guest speakers from South Texas Emergency Care Foundation\, and more!  Enjoy coffee and pastries courtesy of Ol' D's Soda Shop.  Door prizes too!  Free and open to the public ... bring a friend!  For more info\, call the Harlingen Downtown Office\, 216-4910.\n
LOCATION:
UID:e.1828.3744
SEQUENCE:3
DTSTAMP:20260420T145046Z
URL:https://business.harlingen.com/events/details/good-morning-downtown-coffee-06-07-2012-3744
END:VEVENT

END:VCALENDAR
