BEGIN:VCALENDAR
VERSION:2.0
PRODID:-//ChamberMaster//Event Calendar 2.0//EN
METHOD:PUBLISH
X-PUBLISHED-TTL:P3D
REFRESH-INTERVAL:P3D
CALSCALE:GREGORIAN
BEGIN:VEVENT
DTSTART:20110707T133000Z
DTEND:20110707T133000Z
X-MICROSOFT-CDO-ALLDAYEVENT:FALSE
SUMMARY:"Good Morning Downtown" Coffee
DESCRIPTION:Come for coffee\, donuts\, and conversation about what's happening in and around Downtown!  Guest speakers include the new Executive Director of the Harlingen Convention & Visitors Bureau and the new Executive Director of The University Center at TSTC (opening soon).  Plus\, updates on Family Movie Nights and new businesses opening downtown.  Free and open to the public. Coffee and donuts courtesy of Economy Finance.  Door prizes too.  For more info\, call the Harlingen Downtown Office\, 216-4910.
X-ALT-DESC;FMTTYPE=text/html:Come for coffee\, donuts\, and conversation about what's happening in and around Downtown!  Guest speakers include the new Executive Director of the Harlingen Convention & Visitors Bureau and the new Executive Director of The University Center at TSTC (opening soon).  Plus\, updates on Family Movie Nights and new businesses opening downtown.  Free and open to the public. Coffee and donuts courtesy of Economy Finance.  Door prizes too.  For more info\, call the Harlingen Downtown Office\, 216-4910.\n
LOCATION:(NW corner of Jackson & 3rd)
UID:e.1828.3101
SEQUENCE:3
DTSTAMP:20260421T064009Z
URL:https://business.harlingen.com/events/details/good-morning-downtown-coffee-07-07-2011-3101
END:VEVENT

END:VCALENDAR
