BEGIN:VCALENDAR
VERSION:2.0
PRODID:-//ChamberMaster//Event Calendar 2.0//EN
METHOD:PUBLISH
X-PUBLISHED-TTL:P3D
REFRESH-INTERVAL:P3D
CALSCALE:GREGORIAN
BEGIN:VEVENT
DTSTART:20130801T133000Z
DTEND:20130801T143000Z
X-MICROSOFT-CDO-ALLDAYEVENT:FALSE
SUMMARY:"Good Morning Downtown" Coffee
DESCRIPTION:Come for coffee and conversation about what's happening in Downtown Harlingen\, and be among the first to see this beautiful new art gallery! Get info on upcoming events\, new downtown businesses\, and low-interest loans available through Accion Texas. Learn about the Tropical Texas Regional Center of Innovation & Commercialization\, and more! Complimentary coffee\, breakfast sandwiches\, pastries\, fruit\, and juice. Door prizes too!
X-ALT-DESC;FMTTYPE=text/html:Come for coffee and conversation about what&#39\;s happening in Downtown Harlingen\, and be among the first to see this beautiful new art gallery! Get info on upcoming events\, new downtown businesses\, and low-interest loans available through Accion Texas. Learn about the Tropical Texas Regional Center of Innovation &amp\; Commercialization\, and more! Complimentary coffee\, breakfast sandwiches\, pastries\, fruit\, and juice. Door prizes too! 
LOCATION:Beyond Arts Gallery\, 114 N. "A" Street\, Harlingen (next to New York Deli/behind Repeat Performance Thrift Shop
UID:e.1828.4372
SEQUENCE:3
DTSTAMP:20260419T153200Z
URL:https://business.harlingen.com/events/details/good-morning-downtown-coffee-08-01-2013-4372
END:VEVENT

END:VCALENDAR
