BEGIN:VCALENDAR
VERSION:2.0
PRODID:-//ChamberMaster//Event Calendar 2.0//EN
METHOD:PUBLISH
X-PUBLISHED-TTL:P3D
REFRESH-INTERVAL:P3D
CALSCALE:GREGORIAN
BEGIN:VEVENT
DTSTART:20100805T133000Z
DTEND:20100805T133000Z
X-MICROSOFT-CDO-ALLDAYEVENT:FALSE
SUMMARY:"Good Morning Downtown" Coffee
DESCRIPTION:Come for coffee and conversation about what's happening in Downtown Harlingen.  Hear about plans of the Harlingen Farmers Market to move downtown\, get details on the next Family Movie Night\, learn of efforts by property and business owners to continue the Downtown District.  Get info on the Vannie Cook Holiday Shopping Card and how you might participate as a merchant or shopper in this great new promotion.  Plus\, check out this newly remodeled building\, now home of Paul Gonzales Insurance Agency\, Sister Got Your Purse Boutique\, Salas Images Photography\, Agua Cristalina Home Care\, Maranatha Evangelical Fellowship\, and Southwest Minority Supplier Development Council!  Free and open to the public -- bring a friend!  Coffee and pastries courtesy of Paul Gonzales Insurance Agency.  For more info\, call the Harlingen Downtown Office\, (956) 216-4910.
X-ALT-DESC;FMTTYPE=text/html:Come for coffee and conversation about what's happening in Downtown Harlingen.  Hear about plans of the Harlingen Farmers Market to move downtown\, get details on the next Family Movie Night\, learn of efforts by property and business owners to continue the Downtown District.  Get info on the Vannie Cook Holiday Shopping Card and how you might participate as a merchant or shopper in this great new promotion.  Plus\, check out this newly remodeled building\, now home of Paul Gonzales Insurance Agency\, Sister Got Your Purse Boutique\, Salas Images Photography\, Agua Cristalina Home Care\, Maranatha Evangelical Fellowship\, and Southwest Minority Supplier Development Council!  Free and open to the public -- bring a friend!  Coffee and pastries courtesy of Paul Gonzales Insurance Agency.  For more info\, call the Harlingen Downtown Office\, (956) 216-4910.\n
LOCATION:
UID:e.1828.2622
SEQUENCE:3
DTSTAMP:20260422T014537Z
URL:https://business.harlingen.com/events/details/good-morning-downtown-coffee-08-05-2010-2622
END:VEVENT

END:VCALENDAR
