BEGIN:VCALENDAR
VERSION:2.0
PRODID:-//ChamberMaster//Event Calendar 2.0//EN
METHOD:PUBLISH
X-PUBLISHED-TTL:P3D
REFRESH-INTERVAL:P3D
CALSCALE:GREGORIAN
BEGIN:VEVENT
DTSTART:20110901T133000Z
DTEND:20110901T143000Z
X-MICROSOFT-CDO-ALLDAYEVENT:FALSE
SUMMARY:"Good Morning Downtown" Coffee
DESCRIPTION:Come for coffee\, pastries\, and to see this brand new store featuring several of Harlingen's favorite antique dealers!   Meet the Director and Heritage Officer from Historic Downtown Brownsville and hear about some of their successes and challenges.  Get an update on the upcoming Rio Grande Valley Birding Festival.  Learn about grand openings for new Downtown Harlingen businesses\, plans to create two new murals\, and more.  \n\nCoffee and pastries courtesy of KWL & Company (Antiquities\, Collectibles\, Design\, Estate Sales).  Door prizes too!\n\nFree and open to the public ... bring a friend!  For more info\, call the Harlingen Downtown Office\, 216-4910.
X-ALT-DESC;FMTTYPE=text/html:Come for coffee\, pastries\, and to see this brand new store featuring several of Harlingen's favorite antique dealers!   Meet the Director and Heritage Officer from Historic Downtown Brownsville and hear about some of their successes and challenges.  Get an update on the upcoming Rio Grande Valley Birding Festival.  Learn about grand openings for new Downtown Harlingen businesses\, plans to create two new murals\, and more.  \n\nCoffee and pastries courtesy of KWL & Company (Antiquities\, Collectibles\, Design\, Estate Sales).  Door prizes too!\n\nFree and open to the public ... bring a friend!  For more info\, call the Harlingen Downtown Office\, 216-4910.\n\n
LOCATION:
UID:e.1828.3155
SEQUENCE:3
DTSTAMP:20260421T033950Z
URL:https://business.harlingen.com/events/details/good-morning-downtown-coffee-09-01-2011-3155
END:VEVENT

END:VCALENDAR
