BEGIN:VCALENDAR
VERSION:2.0
PRODID:-//ChamberMaster//Event Calendar 2.0//EN
METHOD:PUBLISH
X-PUBLISHED-TTL:P3D
REFRESH-INTERVAL:P3D
CALSCALE:GREGORIAN
BEGIN:VEVENT
DTSTART:20100902T133000Z
DTEND:20100902T133000Z
X-MICROSOFT-CDO-ALLDAYEVENT:FALSE
SUMMARY:"Good Morning Downtown" Coffee
DESCRIPTION:Come for coffee and a sneak preview of the popular Lupita's Rebozos shop\, now in a new location on Jackson Street!  Hear about plans for the second annual Fajita-Rita contest downtown and other Sabor del Campo events in October.  Plus\, learn about other possible downtown events and promotions.  Free and open to the public -- bring a friend!  Coffee and pastries courtesy of Lupita's.  For more info\, call the Harlingen Downtown Office\, (956) 216-4910.
X-ALT-DESC;FMTTYPE=text/html:Come for coffee and a sneak preview of the popular Lupita's Rebozos shop\, now in a new location on Jackson Street!  Hear about plans for the second annual Fajita-Rita contest downtown and other Sabor del Campo events in October.  Plus\, learn about other possible downtown events and promotions.  Free and open to the public -- bring a friend!  Coffee and pastries courtesy of Lupita's.  For more info\, call the Harlingen Downtown Office\, (956) 216-4910.\n
LOCATION:Located next Java Café
UID:e.1828.2731
SEQUENCE:3
DTSTAMP:20260421T222912Z
URL:https://business.harlingen.com/events/details/good-morning-downtown-coffee-09-02-2010-2731
END:VEVENT

END:VCALENDAR
