BEGIN:VCALENDAR
VERSION:2.0
PRODID:-//ChamberMaster//Event Calendar 2.0//EN
METHOD:PUBLISH
X-PUBLISHED-TTL:P3D
REFRESH-INTERVAL:P3D
CALSCALE:GREGORIAN
BEGIN:VEVENT
DTSTART:20090903T133000Z
DTEND:20090903T133000Z
X-MICROSOFT-CDO-ALLDAYEVENT:FALSE
SUMMARY:"Good Morning Downtown" Coffee
DESCRIPTION:Come for coffee and conversation about what's happening in Downtown Harlingen.  Learn about upcoming events\, new businesses\, advertising opportunities and more.  Free and open to the public ... bring a friend!  Coffee and sweet bread courtesy of The Antique Emporium & Frank's Collection Record Shop.  For more info\, call the Harlingen Downtown Office\, 216-4910.
X-ALT-DESC;FMTTYPE=text/html:Come for coffee and conversation about what's happening in Downtown Harlingen.  Learn about upcoming events\, new businesses\, advertising opportunities and more.  Free and open to the public ... bring a friend!  Coffee and sweet bread courtesy of The Antique Emporium & Frank's Collection Record Shop.  For more info\, call the Harlingen Downtown Office\, 216-4910.\n
LOCATION:
UID:e.1828.2054
SEQUENCE:3
DTSTAMP:20260422T093722Z
URL:https://business.harlingen.com/events/details/good-morning-downtown-coffee-09-03-2009-2054
END:VEVENT

END:VCALENDAR
