BEGIN:VCALENDAR
VERSION:2.0
PRODID:-//ChamberMaster//Event Calendar 2.0//EN
METHOD:PUBLISH
X-PUBLISHED-TTL:P3D
REFRESH-INTERVAL:P3D
CALSCALE:GREGORIAN
BEGIN:VEVENT
DTSTART:20120906T133000Z
DTEND:20120906T143000Z
X-MICROSOFT-CDO-ALLDAYEVENT:FALSE
SUMMARY:"Good Morning Downtown" Coffee
DESCRIPTION:Come for coffee and conversation about what's happening in Downtown Harlingen!   Learn about new "Jammin' on Jackson" music events.  Get an update on new downtown businesses and meet some of the folks who are moving in!  Guest speakers include Pam Priour\, the new President/CEO of the Harlingen Chamber\, Sergio Rodriguez\, Loan Officer with Accion Texas\, and more.  Lots of great info!  Enjoy coffee\, juice\, and donuts courtesy of Paul Gonzales Insurance Agency and the Southwest Minority Supplier Development Council.  Door prizes too!  \n\nFree and open to the public ... bring a friend!  For more info\, call the Harlingen Downtown Office\, 216-4910.
X-ALT-DESC;FMTTYPE=text/html:Come for coffee and conversation about what's happening in Downtown Harlingen!   Learn about new "Jammin' on Jackson" music events.  Get an update on new downtown businesses and meet some of the folks who are moving in!  Guest speakers include Pam Priour\, the new President/CEO of the Harlingen Chamber\, Sergio Rodriguez\, Loan Officer with Accion Texas\, and more.  Lots of great info!  Enjoy coffee\, juice\, and donuts courtesy of Paul Gonzales Insurance Agency and the Southwest Minority Supplier Development Council.  Door prizes too!  \n\nFree and open to the public ... bring a friend!  For more info\, call the Harlingen Downtown Office\, 216-4910.\n\n
LOCATION:(plenty of parking in the Public Lot behind building)
UID:e.1828.3957
SEQUENCE:3
DTSTAMP:20260420T095909Z
URL:https://business.harlingen.com/events/details/good-morning-downtown-coffee-09-06-2012-3957
END:VEVENT

END:VCALENDAR
