BEGIN:VCALENDAR
VERSION:2.0
PRODID:-//ChamberMaster//Event Calendar 2.0//EN
METHOD:PUBLISH
X-PUBLISHED-TTL:P3D
REFRESH-INTERVAL:P3D
CALSCALE:GREGORIAN
BEGIN:VEVENT
DTSTART:20091001T133000Z
DTEND:20091001T143000Z
X-MICROSOFT-CDO-ALLDAYEVENT:FALSE
SUMMARY:"Good Morning Downtown" Coffee
DESCRIPTION:Don't miss this special sneak preview of the Rotting Flesh Factory Haunted House -- opening in Harlingen's Downtown this weekend!  Plus\, learn about upcoming events\, new downtown businesses\, advertising opportunities and more.  Free and open to the public ... bring a friend!  Coffee\, kolaches\, donuts\, and scares courtesy of The Rotting Flesh Factory.  For more info\, call the Harlingen Downtown Office\, 216-4910.
X-ALT-DESC;FMTTYPE=text/html:Don't miss this special sneak preview of the Rotting Flesh Factory Haunted House -- opening in Harlingen's Downtown this weekend!  Plus\, learn about upcoming events\, new downtown businesses\, advertising opportunities and more.  Free and open to the public ... bring a friend!  Coffee\, kolaches\, donuts\, and scares courtesy of The Rotting Flesh Factory.  For more info\, call the Harlingen Downtown Office\, 216-4910.\n
LOCATION:Corner of Van Buren & E Street -- by La Placita arch
UID:e.1828.2121
SEQUENCE:3
DTSTAMP:20260422T111658Z
URL:https://business.harlingen.com/events/details/good-morning-downtown-coffee-10-01-2009-2121
END:VEVENT

END:VCALENDAR
