BEGIN:VCALENDAR
VERSION:2.0
PRODID:-//ChamberMaster//Event Calendar 2.0//EN
METHOD:PUBLISH
X-PUBLISHED-TTL:P3D
REFRESH-INTERVAL:P3D
CALSCALE:GREGORIAN
BEGIN:VEVENT
DTSTART:20121004T133000Z
DTEND:20121004T143000Z
X-MICROSOFT-CDO-ALLDAYEVENT:FALSE
SUMMARY:"Good Morning Downtown" Coffee
DESCRIPTION:Come get an update on what's happening in Downtown Harlingen!   Learn about new businesses\, new events\, and upcoming Holiday promotions.  Guest speakers will include Raudel Garza\, new Manager/CEO of the Harlingen Economic Development Corporation\, and others.  Enjoy coffee and breakfast treats courtesy of The White Lion.  Door prizes too!  \n\nFree and open to the public ... bring a friend!  For more info\, call the Harlingen Downtown Office\, 216-4910.
X-ALT-DESC;FMTTYPE=text/html:Come get an update on what's happening in Downtown Harlingen!   Learn about new businesses\, new events\, and upcoming Holiday promotions.  Guest speakers will include Raudel Garza\, new Manager/CEO of the Harlingen Economic Development Corporation\, and others.  Enjoy coffee and breakfast treats courtesy of The White Lion.  Door prizes too!  \n\nFree and open to the public ... bring a friend!  For more info\, call the Harlingen Downtown Office\, 216-4910.\n\n
LOCATION:
UID:e.1828.4024
SEQUENCE:3
DTSTAMP:20260420T085453Z
URL:https://business.harlingen.com/events/details/good-morning-downtown-coffee-10-04-2012-4024
END:VEVENT

END:VCALENDAR
