BEGIN:VCALENDAR
VERSION:2.0
PRODID:-//ChamberMaster//Event Calendar 2.0//EN
METHOD:PUBLISH
X-PUBLISHED-TTL:P3D
REFRESH-INTERVAL:P3D
CALSCALE:GREGORIAN
BEGIN:VEVENT
DTSTART:20111006T133000Z
DTEND:20111006T143000Z
X-MICROSOFT-CDO-ALLDAYEVENT:FALSE
SUMMARY:"Good Morning Downtown" Coffee
DESCRIPTION:Come for coffee\, conversation and food samples from this new downtown restaurant!   Meet Tom Whitten\, Harlingen's new Police Chief and hear some of his views about the community.  Learn about upcoming events\, including new downtown walking tours\, a "Pedals for Pets" Parade and the RGV Jaycees Christmas Parade.  Plus\, get an update on free services available through the UT Pan Am Small Business Development Center.  \n\nCoffee and food samples courtesy of El Sombrero Mexican Restaurant.  Door prizes too!\n\nFree and open to the public ... bring a friend!  For more info\, call the Harlingen Downtown Office\, 216-4910.
X-ALT-DESC;FMTTYPE=text/html:Come for coffee\, conversation and food samples from this new downtown restaurant!   Meet Tom Whitten\, Harlingen's new Police Chief and hear some of his views about the community.  Learn about upcoming events\, including new downtown walking tours\, a "Pedals for Pets" Parade and the RGV Jaycees Christmas Parade.  Plus\, get an update on free services available through the UT Pan Am Small Business Development Center.  \n\nCoffee and food samples courtesy of El Sombrero Mexican Restaurant.  Door prizes too!\n\nFree and open to the public ... bring a friend!  For more info\, call the Harlingen Downtown Office\, 216-4910.\n\n\n
LOCATION:
UID:e.1828.3178
SEQUENCE:3
DTSTAMP:20260421T034037Z
URL:https://business.harlingen.com/events/details/good-morning-downtown-coffee-10-06-2011-3178
END:VEVENT

END:VCALENDAR
