BEGIN:VCALENDAR
VERSION:2.0
PRODID:-//ChamberMaster//Event Calendar 2.0//EN
METHOD:PUBLISH
X-PUBLISHED-TTL:P3D
REFRESH-INTERVAL:P3D
CALSCALE:GREGORIAN
BEGIN:VEVENT
DTSTART:20101007T133000Z
DTEND:20101007T133000Z
X-MICROSOFT-CDO-ALLDAYEVENT:FALSE
SUMMARY:Good Morning Downtown Coffee
DESCRIPTION:Come for coffee and conversation about what's happening in Downtown Harlingen.  Learn about upcoming events\, including the Harlingen Farmers Market starting Downtown Oct. 16\, the Jackson 1-2-3 Fall Fling Oct. 28\, and more!  Bill Martin\, CEO of the Harlingen Economic Development Corporation\, will talk about Bass Pro Shops coming to Harlingen.  Free and open to the public -- bring a friend!  Coffee and pastries courtesy of Alexandre's Jewelry.  For more info\, call the Harlingen Downtown Office\, (956) 216-4910.
X-ALT-DESC;FMTTYPE=text/html:Come for coffee and conversation about what's happening in Downtown Harlingen.  Learn about upcoming events\, including the Harlingen Farmers Market starting Downtown Oct. 16\, the Jackson 1-2-3 Fall Fling Oct. 28\, and more!  Bill Martin\, CEO of the Harlingen Economic Development Corporation\, will talk about Bass Pro Shops coming to Harlingen.  Free and open to the public -- bring a friend!  Coffee and pastries courtesy of Alexandre's Jewelry.  For more info\, call the Harlingen Downtown Office\, (956) 216-4910.\n
LOCATION:
UID:e.1828.2786
SEQUENCE:3
DTSTAMP:20260421T203335Z
URL:https://business.harlingen.com/events/details/good-morning-downtown-coffee-10-07-2010-2786
END:VEVENT

END:VCALENDAR
