BEGIN:VCALENDAR
VERSION:2.0
PRODID:-//ChamberMaster//Event Calendar 2.0//EN
METHOD:PUBLISH
X-PUBLISHED-TTL:P3D
REFRESH-INTERVAL:P3D
CALSCALE:GREGORIAN
BEGIN:VEVENT
DTSTART:20111103T133000Z
DTEND:20111103T143000Z
X-MICROSOFT-CDO-ALLDAYEVENT:FALSE
SUMMARY:"Good Morning Downtown" Coffee
DESCRIPTION:In the loft residence above Nip n' Tuck Draperies\, 214 E. Jackson (upstairs)\n\nGet a taste of downtown living with a tour of this fabulous loft residence above Nip 'n Tuck Draperies!  Learn about a Dia de Los Muertos Fiesta downtown on Saturday\, November 5.  Get an update on the Harlingen Famers Market\, held downtown now for more than a year!  Meet Col. R. Glenn Hill\, Superintendent of the Marine Military Academy and learn about this unique Harlingen asset.  Plus\, get info on advertising opportunities in TravelHost Magazine\, on the new Convention & Visitors Bureau website\, and more.  \n\nFree and open to the public -- bring a friend!  Coffee and muffins courtesy of Nip 'n Tuck Draperies.  Door prizes too!  \n\nFor more info\, call the Harlingen Downtown Office\, (956) 216-4910.
X-ALT-DESC;FMTTYPE=text/html:In the loft residence above Nip n' Tuck Draperies\, 214 E. Jackson (upstairs)\n\nGet a taste of downtown living with a tour of this fabulous loft residence above Nip 'n Tuck Draperies!  Learn about a Dia de Los Muertos Fiesta downtown on Saturday\, November 5.  Get an update on the Harlingen Famers Market\, held downtown now for more than a year!  Meet Col. R. Glenn Hill\, Superintendent of the Marine Military Academy and learn about this unique Harlingen asset.  Plus\, get info on advertising opportunities in TravelHost Magazine\, on the new Convention & Visitors Bureau website\, and more.  \n\nFree and open to the public -- bring a friend!  Coffee and muffins courtesy of Nip 'n Tuck Draperies.  Door prizes too!  \n\nFor more info\, call the Harlingen Downtown Office\, (956) 216-4910.\n\n
LOCATION:
UID:e.1828.3228
SEQUENCE:3
DTSTAMP:20260421T003102Z
URL:https://business.harlingen.com/events/details/good-morning-downtown-coffee-11-03-2011-3228
END:VEVENT

END:VCALENDAR
