BEGIN:VCALENDAR
VERSION:2.0
PRODID:-//ChamberMaster//Event Calendar 2.0//EN
METHOD:PUBLISH
X-PUBLISHED-TTL:P3D
REFRESH-INTERVAL:P3D
CALSCALE:GREGORIAN
BEGIN:VEVENT
DTSTART:20101104T133000Z
DTEND:20101104T133000Z
X-MICROSOFT-CDO-ALLDAYEVENT:FALSE
SUMMARY:"Good Morning Downtown" Coffee
DESCRIPTION:Come for coffee\, conversation and to check out the newly remodeled home of the Harlingen Art Forum!  Learn about the City's new Code Ranger Program and the free marketing and business planning services available through the Small Business Development Center.  Hear about plans for the upcoming Rio Grande Valley Birding Festival and the Jaycees' annual Christmas Parade downtown.  Free and open to the public -- bring a friend!  Coffee\, donuts\, and fruit courtesy of D'Arte Centre.  For more info\, call the Harlingen Downtown Office\, (956) 216-4910.
X-ALT-DESC;FMTTYPE=text/html:Come for coffee\, conversation and to check out the newly remodeled home of the Harlingen Art Forum!  Learn about the City's new Code Ranger Program and the free marketing and business planning services available through the Small Business Development Center.  Hear about plans for the upcoming Rio Grande Valley Birding Festival and the Jaycees' annual Christmas Parade downtown.  Free and open to the public -- bring a friend!  Coffee\, donuts\, and fruit courtesy of D'Arte Centre.  For more info\, call the Harlingen Downtown Office\, (956) 216-4910.
LOCATION:
UID:e.1828.2828
SEQUENCE:3
DTSTAMP:20260421T185928Z
URL:https://business.harlingen.com/events/details/good-morning-downtown-coffee-11-04-2010-2828
END:VEVENT

END:VCALENDAR
