BEGIN:VCALENDAR
VERSION:2.0
PRODID:-//ChamberMaster//Event Calendar 2.0//EN
METHOD:PUBLISH
X-PUBLISHED-TTL:P3D
REFRESH-INTERVAL:P3D
CALSCALE:GREGORIAN
BEGIN:VEVENT
DTSTART:20091105T143000Z
DTEND:20091105T153000Z
X-MICROSOFT-CDO-ALLDAYEVENT:FALSE
SUMMARY:"Good Morning Downtown" Coffee
DESCRIPTION:Come for coffee and conversation about what's happening in Downtown Harlingen.  Learn about a cooperative project with the UTB architecture program\, meet Texas journalist Tumbleweed Smith\, get updates on Centennial events\, downtown landscaping projects\, and more.  Free and open to the public ... bring a friend!  Coffee\, juice\, and hors d'oeuvres courtesy of JMLV Photography.  For more info\, call the Harlingen Downtown Office\, 216-4910.
X-ALT-DESC;FMTTYPE=text/html:Come for coffee and conversation about what's happening in Downtown Harlingen.  Learn about a cooperative project with the UTB architecture program\, meet Texas journalist Tumbleweed Smith\, get updates on Centennial events\, downtown landscaping projects\, and more.  Free and open to the public ... bring a friend!  Coffee\, juice\, and hors d'oeuvres courtesy of JMLV Photography.  For more info\, call the Harlingen Downtown Office\, 216-4910.\n
LOCATION:Next door to That Lime Green Store
UID:e.1828.2195
SEQUENCE:3
DTSTAMP:20260422T143318Z
URL:https://business.harlingen.com/events/details/good-morning-downtown-coffee-11-05-2009-2195
END:VEVENT

END:VCALENDAR
