BEGIN:VCALENDAR
VERSION:2.0
PRODID:-//ChamberMaster//Event Calendar 2.0//EN
METHOD:PUBLISH
X-PUBLISHED-TTL:P3D
REFRESH-INTERVAL:P3D
CALSCALE:GREGORIAN
BEGIN:VEVENT
DTSTART:20111201T143000Z
DTEND:20111201T143000Z
X-MICROSOFT-CDO-ALLDAYEVENT:FALSE
SUMMARY:"Good Morning Downtown" Coffee
DESCRIPTION:Come for coffee and conversation about what's happening in Downtown Harlingen!  Learn about new businesses and upcoming special events\, including the RGV Jaycees Christmas Parade Dec. 2\, a Women's Art Show opening Dec. 3\, a "Night in Morocco" benefit for the Humane Society Dec. 9\, the Shop Hop in January\, and more.  Meet David Songer\, Harlingen's new Reference Librarian and hear about resources available for historic research.  Plus\, winners of the Christmas Window Decorating Contest will be announced. Coffee and light breakfast courtesy of Lupita's on Jackson.  Door prizes too! Free and open to the public ... bring a friend!  For more info\, call the Harlingen Downtown Office\, 216-4910.
X-ALT-DESC;FMTTYPE=text/html:Come for coffee and conversation about what's happening in Downtown Harlingen!  Learn about new businesses and upcoming special events\, including the RGV Jaycees Christmas Parade Dec. 2\, a Women's Art Show opening Dec. 3\, a "Night in Morocco" benefit for the Humane Society Dec. 9\, the Shop Hop in January\, and more.  Meet David Songer\, Harlingen's new Reference Librarian and hear about resources available for historic research.  Plus\, winners of the Christmas Window Decorating Contest will be announced. Coffee and light breakfast courtesy of Lupita's on Jackson.  Door prizes too! Free and open to the public ... bring a friend!  For more info\, call the Harlingen Downtown Office\, 216-4910.\n \n
LOCATION:
UID:e.1828.3274
SEQUENCE:3
DTSTAMP:20260420T225317Z
URL:https://business.harlingen.com/events/details/good-morning-downtown-coffee-12-01-2011-3274
END:VEVENT

END:VCALENDAR
