BEGIN:VCALENDAR
VERSION:2.0
PRODID:-//ChamberMaster//Event Calendar 2.0//EN
METHOD:PUBLISH
X-PUBLISHED-TTL:P3D
REFRESH-INTERVAL:P3D
CALSCALE:GREGORIAN
BEGIN:VEVENT
DTSTART:20091203T143000Z
DTEND:20091203T143000Z
X-MICROSOFT-CDO-ALLDAYEVENT:FALSE
SUMMARY:"Good Morning Downtown" Coffee
DESCRIPTION:"Good Morning Downtown" Coffee Thursday\, December 3\, 8:30 am at The Limu Center\, 624 W. Van Buren.  Come learn what's happening in Downtown Harlingen\, including improvements\, promotions\, and more!  Coffee\, sweet bread\, and nutritious drinks courtesy of the new Limu Center\, at the corner of Van Buren & "F" Street.  Door prizes too!  For more information\, call the Harlingen Downtown Office\, 216-4910.
X-ALT-DESC;FMTTYPE=text/html:"Good Morning Downtown" Coffee Thursday\, December 3\, 8:30 am at The Limu Center\, 624 W. Van Buren.  Come learn what's happening in Downtown Harlingen\, including improvements\, promotions\, and more!  Coffee\, sweet bread\, and nutritious drinks courtesy of the new Limu Center\, at the corner of Van Buren & "F" Street.  Door prizes too!  For more information\, call the Harlingen Downtown Office\, 216-4910.\n
LOCATION:Located at the corner of Van Buren & F Street.
UID:e.1828.2247
SEQUENCE:3
DTSTAMP:20260422T125810Z
URL:https://business.harlingen.com/events/details/good-morning-downtown-coffee-12-03-2009-2247
END:VEVENT

END:VCALENDAR
