BEGIN:VCALENDAR
VERSION:2.0
PRODID:-//ChamberMaster//Event Calendar 2.0//EN
METHOD:PUBLISH
X-PUBLISHED-TTL:P3D
REFRESH-INTERVAL:P3D
CALSCALE:GREGORIAN
BEGIN:VEVENT
DTSTART:20110804T133000Z
DTEND:20110804T143000Z
X-MICROSOFT-CDO-ALLDAYEVENT:FALSE
SUMMARY:"Good Morning Downtown" Coffee goes on the road!
DESCRIPTION:Come for coffee and conversation about what's happening in and around Downtown Harlingen!  Guest speakers include the new Editor of the Valley Morning Star and Brownsville Herald.  Get updates on new Downtown businesses and upcoming events\, including a free seminar Aug 16th on Commercial Design.  Plus\, celebrate 75 years of Texas Travel Information Centers and meet the Harlingen travel counselors who serve thousands of visitors annually.  Coffee and cake courtesy of the Texas Travel Information Center.  Door prizes too!  Free and open to the public ... bring a friend!  For more info\, call the Harlingen Downtown Office\, 216-4910.
X-ALT-DESC;FMTTYPE=text/html:Come for coffee and conversation about what's happening in and around Downtown Harlingen!  Guest speakers include the new Editor of the Valley Morning Star and Brownsville Herald.  Get updates on new Downtown businesses and upcoming events\, including a free seminar Aug 16th on Commercial Design.  Plus\, celebrate 75 years of Texas Travel Information Centers and meet the Harlingen travel counselors who serve thousands of visitors annually.  Coffee and cake courtesy of the Texas Travel Information Center.  Door prizes too!  Free and open to the public ... bring a friend!  For more info\, call the Harlingen Downtown Office\, 216-4910.\n\n
LOCATION:
UID:e.1828.3129
SEQUENCE:3
DTSTAMP:20260421T052829Z
URL:https://business.harlingen.com/events/details/good-morning-downtown-coffee-goes-on-the-road-08-04-2011-3129
END:VEVENT

END:VCALENDAR
