BEGIN:VCALENDAR
VERSION:2.0
PRODID:-//ChamberMaster//Event Calendar 2.0//EN
METHOD:PUBLISH
X-PUBLISHED-TTL:P3D
REFRESH-INTERVAL:P3D
CALSCALE:GREGORIAN
BEGIN:VEVENT
DTSTART:20120521T230000Z
DTEND:20120521T230000Z
X-MICROSOFT-CDO-ALLDAYEVENT:FALSE
SUMMARY:GOP Candidate Forum
DESCRIPTION:GOP Candidate Forum\, sponsored by the North Cameron County Republican Club.
X-ALT-DESC;FMTTYPE=text/html:GOP Candidate Forum\, sponsored by the North Cameron County Republican Club. \n
LOCATION:
UID:e.1828.3656
SEQUENCE:3
DTSTAMP:20260420T145627Z
URL:https://business.harlingen.com/events/details/gop-candidate-forum-05-21-2012-3656
END:VEVENT

END:VCALENDAR
