BEGIN:VCALENDAR
VERSION:2.0
PRODID:-//ChamberMaster//Event Calendar 2.0//EN
METHOD:PUBLISH
X-PUBLISHED-TTL:P3D
REFRESH-INTERVAL:P3D
CALSCALE:GREGORIAN
BEGIN:VEVENT
DTSTART:20100918T230000Z
DTEND:20100919T020000Z
X-MICROSOFT-CDO-ALLDAYEVENT:FALSE
SUMMARY:Grace Barraza Vega Art Exhibit
DESCRIPTION:Grace Barraza Vega will be having a ART Exhibit on Sept 18th at 218 W. Jackson in Harlingen from 6 to 9 pm.  Cold Shot will be there playing your favorite Classic Rock and Roll from 7-11 pm. Art and Music\, come on out. See you there.
X-ALT-DESC;FMTTYPE=text/html:Grace Barraza Vega will be having a ART Exhibit on Sept 18th at 218 W. Jackson in Harlingen from 6 to 9 pm.  Cold Shot will be there playing your favorite Classic Rock and Roll from 7-11 pm. Art and Music\, come on out. See you there.  
LOCATION:
UID:e.1828.2748
SEQUENCE:3
DTSTAMP:20260422T000903Z
URL:https://business.harlingen.com/events/details/grace-barraza-vega-art-exhibit-09-18-2010-2748
END:VEVENT

END:VCALENDAR
