BEGIN:VCALENDAR
VERSION:2.0
PRODID:-//ChamberMaster//Event Calendar 2.0//EN
METHOD:PUBLISH
X-PUBLISHED-TTL:P3D
REFRESH-INTERVAL:P3D
CALSCALE:GREGORIAN
BEGIN:VEVENT
DTSTART:20111102T210000Z
DTEND:20111102T230000Z
X-MICROSOFT-CDO-ALLDAYEVENT:FALSE
SUMMARY:Graduate Studies Open House
DESCRIPTION:UTB is coming to YOU. Work toward your degree close to home at University Center in Harlingen. \n\nWork towards your degree close to home at University Center in Harlingen\n\n- B.A. in Psychology\n- B.B.A. in Management\n-B.S. in Health and Human Performance\n-M. Ed.\n       Counseling and Guidance\n       Curriculum and Instruction\n       Educational Leadership\n-M.S. in Mathematics\n\nutb.edu/ocu • 956-882-4168 • offcampusuniversity@utb.edu
X-ALT-DESC;FMTTYPE=text/html:UTB is coming to YOU. Work toward your degree close to home at University Center in Harlingen. \n\nWork towards your degree close to home at University Center in Harlingen\n\n- B.A. in Psychology\n- B.B.A. in Management\n-B.S. in Health and Human Performance\n-M. Ed.\n       Counseling and Guidance\n       Curriculum and Instruction\n       Educational Leadership\n-M.S. in Mathematics\n\nutb.edu/ocu • 956-882-4168 • offcampusuniversity@utb.edu
LOCATION:
UID:e.1828.3219
SEQUENCE:3
DTSTAMP:20260421T003029Z
URL:https://business.harlingen.com/events/details/graduate-studies-open-house-11-02-2011-3219
END:VEVENT

END:VCALENDAR
