BEGIN:VCALENDAR
VERSION:2.0
PRODID:-//ChamberMaster//Event Calendar 2.0//EN
METHOD:PUBLISH
X-PUBLISHED-TTL:P3D
REFRESH-INTERVAL:P3D
CALSCALE:GREGORIAN
BEGIN:VEVENT
DTSTART:20110428T160000Z
DTEND:20110428T160000Z
X-MICROSOFT-CDO-ALLDAYEVENT:FALSE
SUMMARY:Grand Opening of Keep Harlingen Beautiful Education Center
DESCRIPTION:An Open House will be held after the Ceremony and for the remainder of the day. Refreshments will be served.\nYou will also have an opportunity to meet the new Keep Harlingen Beautiful Executive Director Adam Weaver.
X-ALT-DESC;FMTTYPE=text/html:An Open House will be held after the Ceremony and for the remainder of the day. Refreshments will be served.\nYou will also have an opportunity to meet the new Keep Harlingen Beautiful Executive Director Adam Weaver.
LOCATION:
UID:e.1828.3036
SEQUENCE:3
DTSTAMP:20260421T113051Z
URL:https://business.harlingen.com/events/details/grand-opening-of-keep-harlingen-beautiful-education-center-04-28-2011-3036
END:VEVENT

END:VCALENDAR
