BEGIN:VCALENDAR
VERSION:2.0
PRODID:-//ChamberMaster//Event Calendar 2.0//EN
METHOD:PUBLISH
X-PUBLISHED-TTL:P3D
REFRESH-INTERVAL:P3D
CALSCALE:GREGORIAN
BEGIN:VEVENT
DTSTART;VALUE=DATE:20101101
DTEND;VALUE=DATE:20110201
TRANSP:TRANSPARENT
X-MICROSOFT-CDO-ALLDAYEVENT:TRUE
SUMMARY:Granny Clare's Citrus at Rio Pride Orchards
DESCRIPTION:Re-opened for the 2010-2011 citrus season & proud to announce\nnew WEBSITE: www.grannyclarescitrusatrioprideorchards.com\nCome by Monday - Friday from 8 to 5 and \nNEW STORE HOURS on Saturday from 9 to 4 \n\nFabulous Rio Star Grapefruit Selections\, Delicious Marrs Orange Juice\, & Fantastic Navel Oranges. \n14748 Hoss Lane\, Harlingen\, TX  email: RioPride1@aol.com \nLocal: 956-423-1191  Toll Free: 866-878-7770
X-ALT-DESC;FMTTYPE=text/html:Re-opened for the 2010-2011 citrus season & proud to announce\nnew WEBSITE: www.grannyclarescitrusatrioprideorchards.com\nCome by Monday - Friday from 8 to 5 and \nNEW STORE HOURS on Saturday from 9 to 4 \n\nFabulous Rio Star Grapefruit Selections\, Delicious Marrs Orange Juice\, & Fantastic Navel Oranges. \n14748 Hoss Lane\, Harlingen\, TX  email: RioPride1@aol.com \nLocal: 956-423-1191  Toll Free: 866-878-7770       \n
LOCATION:
UID:e.1828.2844
SEQUENCE:3
DTSTAMP:20260421T154829Z
URL:https://business.harlingen.com/events/details/granny-clare-s-citrus-at-rio-pride-orchards-11-01-2010-2844
END:VEVENT

END:VCALENDAR
