BEGIN:VCALENDAR
VERSION:2.0
PRODID:-//ChamberMaster//Event Calendar 2.0//EN
METHOD:PUBLISH
X-PUBLISHED-TTL:P3D
REFRESH-INTERVAL:P3D
CALSCALE:GREGORIAN
BEGIN:VEVENT
DTSTART:20091113T040000Z
DTEND:20091205T220000Z
X-MICROSOFT-CDO-ALLDAYEVENT:FALSE
SUMMARY:Guadalupe Art Show Sumbissions
DESCRIPTION:The Brownsville Historical Association is will accept submissions to its annual Virgin de Guadalupe exhibit from November 14 through December 5\, 2009. Artwork such as paintings\, textiles\, photography and sculpture will be accepted. Artists can drop their work off at the Old City Cemetery Center and must fill out the appropriate paperwork at that time.  The Center is open Wednesday through Saturday\, 10am to 4pm\n\nAny artwork submitted after December 5 with not be accepted.
X-ALT-DESC;FMTTYPE=text/html:The Brownsville Historical Association is will accept submissions to its annual Virgin de Guadalupe exhibit from November 14 through December 5\, 2009. Artwork such as paintings\, textiles\, photography and sculpture will be accepted. Artists can drop their work off at the Old City Cemetery Center and must fill out the appropriate paperwork at that time.  The Center is open Wednesday through Saturday\, 10am to 4pm\n\nAny artwork submitted after December 5 with not be accepted.\n\n
LOCATION:Take US 77/83 to the 6th Street exit. Follow 6th street down and the Old City Cemetery will be on the left hand side.
UID:e.1828.2211
SEQUENCE:3
DTSTAMP:20260422T130144Z
URL:https://business.harlingen.com/events/details/guadalupe-art-show-sumbissions-11-12-2009-2211
END:VEVENT

END:VCALENDAR
