BEGIN:VCALENDAR
VERSION:2.0
PRODID:-//ChamberMaster//Event Calendar 2.0//EN
METHOD:PUBLISH
X-PUBLISHED-TTL:P3D
REFRESH-INTERVAL:P3D
CALSCALE:GREGORIAN
BEGIN:VEVENT
DTSTART:20100826T230000Z
DTEND:20100827T010000Z
X-MICROSOFT-CDO-ALLDAYEVENT:FALSE
SUMMARY:Gulf Aviation Air Charter Division Open House
DESCRIPTION:COME JOIN OUR OPEN HOUSE!!  Help us celebrate the opening of our Air Charter Division on August 26\, 2010\nat Gulf Aviation\, Inc. located at 5001 Bodenhamer at Valley International Airport from 6 - 8 pm.\nTime: 6-8 PM
X-ALT-DESC;FMTTYPE=text/html:COME JOIN OUR OPEN HOUSE!!  Help us celebrate the opening of our Air Charter Division on August 26\, 2010\nat Gulf Aviation\, Inc. located at 5001 Bodenhamer at Valley International Airport from 6 - 8 pm.\nTime: 6-8 PM\n
LOCATION:
UID:e.1828.2657
SEQUENCE:3
DTSTAMP:20260422T001828Z
URL:https://business.harlingen.com/events/details/gulf-aviation-air-charter-division-open-house-08-26-2010-2657
END:VEVENT

END:VCALENDAR
