BEGIN:VCALENDAR
VERSION:2.0
PRODID:-//ChamberMaster//Event Calendar 2.0//EN
METHOD:PUBLISH
X-PUBLISHED-TTL:P3D
REFRESH-INTERVAL:P3D
CALSCALE:GREGORIAN
BEGIN:VEVENT
DTSTART:20110927T223000Z
DTEND:20110927T223000Z
X-MICROSOFT-CDO-ALLDAYEVENT:FALSE
SUMMARY:Gustavo C. Ruiz Attorney & Counselor at Law Grand Opening
DESCRIPTION:Come celebrate the Grand Opening of Gustavo Ruiz Attorney & Counselor at Law's new location in Harlingen. There will be a Ribbon Cutting ceremony followed with fajita tacos and soft drinks.
X-ALT-DESC;FMTTYPE=text/html:Come celebrate the Grand Opening of Gustavo Ruiz Attorney & Counselor at Law's new location in Harlingen. There will be a Ribbon Cutting ceremony followed with fajita tacos and soft drinks.  \n
LOCATION:
UID:e.1828.3175
SEQUENCE:3
DTSTAMP:20260421T053258Z
URL:https://business.harlingen.com/events/details/gustavo-c-ruiz-attorney-counselor-at-law-grand-opening-09-27-2011-3175
END:VEVENT

END:VCALENDAR
