BEGIN:VCALENDAR
VERSION:2.0
PRODID:-//ChamberMaster//Event Calendar 2.0//EN
METHOD:PUBLISH
X-PUBLISHED-TTL:P3D
REFRESH-INTERVAL:P3D
CALSCALE:GREGORIAN
BEGIN:VEVENT
DTSTART:20090905T130000Z
DTEND:20090905T160000Z
X-MICROSOFT-CDO-ALLDAYEVENT:FALSE
SUMMARY:Gutierrez Park Clean-Up
DESCRIPTION:Come help clean up and spruce up historic Gutierrez Park\, including painting ornamental lightpoles\, trimming shrubs\, and picking up trash.  Bring gloves and garden tools.  Paint\, brushes\, and trash bags will be provided.  Sponsored by the Alliance for Hispanic Arts & Culture\, Harlingen Parks & Recreation Department\, Harlingen Proud\, and Harlingen Downtown Office.  For more information\, call Dominic at (956) 216-7575 or (713) 384-0333.  Meet near "La Placita" arch.
X-ALT-DESC;FMTTYPE=text/html:Come help clean up and spruce up historic Gutierrez Park\, including painting ornamental lightpoles\, trimming shrubs\, and picking up trash.  Bring gloves and garden tools.  Paint\, brushes\, and trash bags will be provided.  Sponsored by the Alliance for Hispanic Arts & Culture\, Harlingen Parks & Recreation Department\, Harlingen Proud\, and Harlingen Downtown Office.  For more information\, call Dominic at (956) 216-7575 or (713) 384-0333.  Meet near "La Placita" arch.\n
LOCATION:
UID:e.1828.2055
SEQUENCE:3
DTSTAMP:20260422T111716Z
URL:https://business.harlingen.com/events/details/gutierrez-park-clean-up-09-05-2009-2055
END:VEVENT

END:VCALENDAR
