BEGIN:VCALENDAR
VERSION:2.0
PRODID:-//ChamberMaster//Event Calendar 2.0//EN
METHOD:PUBLISH
X-PUBLISHED-TTL:P3D
REFRESH-INTERVAL:P3D
CALSCALE:GREGORIAN
BEGIN:VEVENT
DTSTART:20121005T153000Z
DTEND:20121005T153000Z
X-MICROSOFT-CDO-ALLDAYEVENT:FALSE
SUMMARY:Gutierrez Park Project Ribbon Cutting
DESCRIPTION:Join us as we celebrate the newly renovated Gutierrez Park with the presentation of the flag\, mariachi music\, and a ribbon cutting ceremony!
X-ALT-DESC;FMTTYPE=text/html:Join us as we celebrate the newly renovated Gutierrez Park with the presentation of the flag\, mariachi music\, and a ribbon cutting ceremony! \n
LOCATION:
UID:e.1828.4030
SEQUENCE:3
DTSTAMP:20260420T085538Z
URL:https://business.harlingen.com/events/details/gutierrez-park-project-ribbon-cutting-10-05-2012-4030
END:VEVENT

END:VCALENDAR
