BEGIN:VCALENDAR
VERSION:2.0
PRODID:-//ChamberMaster//Event Calendar 2.0//EN
METHOD:PUBLISH
X-PUBLISHED-TTL:P3D
REFRESH-INTERVAL:P3D
CALSCALE:GREGORIAN
BEGIN:VEVENT
DTSTART:20111118T160000Z
DTEND:20111118T221500Z
X-MICROSOFT-CDO-ALLDAYEVENT:FALSE
SUMMARY:H E B's Annual Feast of Sharing
DESCRIPTION:Volunteers are being recruited for H E B's Annual Feast of Sharing.   \nIn the spirit of the holiday season\, H-E-B will host the Annual Feast of Sharing Dinner\, an H-E-B holiday tradition and open invitation celebration for all residents of Harlingen and surrounding communities to enjoy a free holiday meal and entertainment. \n\nH-E-B's Feast of Sharing will serve a traditional holiday meal to more than 5\,000 attendees.\nPlease contact the United Way of Northern Cameron County to volunteer. This office will be coordinating volunteers for the Harlingen Feast only. unitedwayncc@yahoo.com or call 956-423-5954
X-ALT-DESC;FMTTYPE=text/html:Volunteers are being recruited for H E B's Annual Feast of Sharing.   \nIn the spirit of the holiday season\, H-E-B will host the Annual Feast of Sharing Dinner\, an H-E-B holiday tradition and open invitation celebration for all residents of Harlingen and surrounding communities to enjoy a free holiday meal and entertainment. \n\nH-E-B's Feast of Sharing will serve a traditional holiday meal to more than 5\,000 attendees.\nPlease contact the United Way of Northern Cameron County to volunteer. This office will be coordinating volunteers for the Harlingen Feast only. unitedwayncc@yahoo.com or call 956-423-5954\n
LOCATION:
UID:e.1828.3221
SEQUENCE:3
DTSTAMP:20260421T021133Z
URL:https://business.harlingen.com/events/details/h-e-b-s-annual-feast-of-sharing-11-18-2011-3221
END:VEVENT

END:VCALENDAR
