BEGIN:VCALENDAR
VERSION:2.0
PRODID:-//ChamberMaster//Event Calendar 2.0//EN
METHOD:PUBLISH
X-PUBLISHED-TTL:P3D
REFRESH-INTERVAL:P3D
CALSCALE:GREGORIAN
BEGIN:VEVENT
DTSTART:20110119T000000Z
DTEND:20110119T010000Z
X-MICROSOFT-CDO-ALLDAYEVENT:FALSE
SUMMARY:H.O.P.E. Stroke Support Group Meeting at Valley Baptist
DESCRIPTION:Free Stroke Support Group meeting will be held 3rd Tuesday of each month except December from 6pm to 7pm at Valley Baptist Medical Center-Harlingen. Chaplain Joe Jaime of Valley Baptist will speak and answer questions on the spiritual aspects of coping with stroke.  Meeting open to public will be held in the East Tower\, on the third floor of the hospital\, in classroom "B".  For more information please contact Debbie Diehl at dchords6@gmail.com\, Julio Olmeda at 956-389-4060 or visit www.valleybaptist.net.\n\n2011 Meeting Dates (3rd Tuesday of each month except for December)\nJanuary 18th        July 19\nFebruary 15         August 16\nMarch 15              Sept. 20\nApril 19                Oct. 18\nMay 17                 Nov. 15\nJune 21                Dec. 13
X-ALT-DESC;FMTTYPE=text/html:Free Stroke Support Group meeting will be held 3rd Tuesday of each month except December from 6pm to 7pm at Valley Baptist Medical Center-Harlingen. Chaplain Joe Jaime of Valley Baptist will speak and answer questions on the spiritual aspects of coping with stroke.  Meeting open to public will be held in the East Tower\, on the third floor of the hospital\, in classroom "B".  For more information please contact Debbie Diehl at dchords6@gmail.com\, Julio Olmeda at 956-389-4060 or visit www.valleybaptist.net.\n\n2011 Meeting Dates (3rd Tuesday of each month except for December)\nJanuary 18th        July 19\nFebruary 15         August 16\nMarch 15              Sept. 20\nApril 19                Oct. 18\nMay 17                 Nov. 15\nJune 21                Dec. 13\n                            
LOCATION:
UID:e.1828.2883
SEQUENCE:3
DTSTAMP:20260421T154701Z
URL:https://business.harlingen.com/events/details/h-o-p-e-stroke-support-group-meeting-at-valley-baptist-01-18-2011-2883
END:VEVENT

END:VCALENDAR
