BEGIN:VCALENDAR
VERSION:2.0
PRODID:-//ChamberMaster//Event Calendar 2.0//EN
METHOD:PUBLISH
X-PUBLISHED-TTL:P3D
REFRESH-INTERVAL:P3D
CALSCALE:GREGORIAN
BEGIN:VEVENT
DTSTART:20110106T200000Z
DTEND:20110106T210000Z
X-MICROSOFT-CDO-ALLDAYEVENT:FALSE
SUMMARY:H&R BLOCK Grand Opening & Ribbon Cutting
DESCRIPTION:You are invited to come celebrate the grand opening and ribbon cutting ceremony of the new H&R BLOCK location. Brunch treats and beverages will be provided.  \nFor more information please contact the location at (956) 364-3016 or (956) 423-6444.
X-ALT-DESC;FMTTYPE=text/html:You are invited to come celebrate the grand opening and ribbon cutting ceremony of the new H&R BLOCK location. Brunch treats and beverages will be provided.  \nFor more information please contact the location at (956) 364-3016 or (956) 423-6444.
LOCATION:Lincoln Corners Shopping Center
UID:e.1828.2871
SEQUENCE:3
DTSTAMP:20260421T154744Z
URL:https://business.harlingen.com/events/details/h-r-block-grand-opening-ribbon-cutting-01-06-2011-2871
END:VEVENT

END:VCALENDAR
