BEGIN:VCALENDAR
VERSION:2.0
PRODID:-//ChamberMaster//Event Calendar 2.0//EN
METHOD:PUBLISH
X-PUBLISHED-TTL:P3D
REFRESH-INTERVAL:P3D
CALSCALE:GREGORIAN
BEGIN:VEVENT
DTSTART:20091202T000000Z
DTEND:20091202T000000Z
X-MICROSOFT-CDO-ALLDAYEVENT:FALSE
SUMMARY:H&R Block Hiring Fair
DESCRIPTION:Love to work with people?  Love a flexible schedule?  Plan to attend our Client Service Professional session.  Benefits of the job include flexible schedule\, opportunity to earn extra income & job advancement.  For more information\, please contact Amiee Marie Gonzales at 956-792-8342.
X-ALT-DESC;FMTTYPE=text/html:Love to work with people?  Love a flexible schedule?  Plan to attend our Client Service Professional session.  Benefits of the job include flexible schedule\, opportunity to earn extra income & job advancement.  For more information\, please contact Amiee Marie Gonzales at 956-792-8342.
LOCATION:
UID:e.1828.2218
SEQUENCE:3
DTSTAMP:20260422T125945Z
URL:https://business.harlingen.com/events/details/h-r-block-hiring-fair-12-01-2009-2218
END:VEVENT

END:VCALENDAR
