BEGIN:VCALENDAR
VERSION:2.0
PRODID:-//ChamberMaster//Event Calendar 2.0//EN
METHOD:PUBLISH
X-PUBLISHED-TTL:P3D
REFRESH-INTERVAL:P3D
CALSCALE:GREGORIAN
BEGIN:VEVENT
DTSTART:20100112T160000Z
DTEND:20100112T160000Z
X-MICROSOFT-CDO-ALLDAYEVENT:FALSE
SUMMARY:H&R Block Ribbon Cutting
DESCRIPTION:Join the Chamber Ambassadors and H&R Block as we conduct a ribbon cutting ceremony at the Harrison Ave location.\n\nH&R Block has been preparing America's taxes since 1955 and is the world's largest tax services company with over 13\,000 tax offices and online resources.
X-ALT-DESC;FMTTYPE=text/html:Join the Chamber Ambassadors and H&R Block as we conduct a ribbon cutting ceremony at the Harrison Ave location.\n\nH&R Block has been preparing America's taxes since 1955 and is the world's largest tax services company with over 13\,000 tax offices and online resources.\n
LOCATION:
UID:e.1828.2292
SEQUENCE:3
DTSTAMP:20260422T111834Z
URL:https://business.harlingen.com/events/details/h-r-block-ribbon-cutting-01-12-2010-2292
END:VEVENT

END:VCALENDAR
