BEGIN:VCALENDAR
VERSION:2.0
PRODID:-//ChamberMaster//Event Calendar 2.0//EN
METHOD:PUBLISH
X-PUBLISHED-TTL:P3D
REFRESH-INTERVAL:P3D
CALSCALE:GREGORIAN
BEGIN:VEVENT
DTSTART:20100107T230000Z
DTEND:20100107T230000Z
X-MICROSOFT-CDO-ALLDAYEVENT:FALSE
SUMMARY:H&R Block Ribbon Cutting at District Office
DESCRIPTION:Join the Chamber Ambassadors and H&R Block as we conduct a ribbon cutting ceremony at the district office.\n\n\n    H&R Block has been preparing America's taxes since 1955 and is the world's largest tax services company with over 13\,000 tax offices and online resources.
X-ALT-DESC;FMTTYPE=text/html:<p>\n    Join the Chamber Ambassadors and H&amp\;R Block as we conduct a ribbon cutting ceremony&nbsp\;at the district office.\n</p>\n<p>\n    H&amp\;R Block has been preparing America's taxes since&nbsp\;1955 and&nbsp\;is the world's largest tax services company with over 13\,000 tax offices and online resources.\n</p>
LOCATION:
UID:e.1828.2291
SEQUENCE:3
DTSTAMP:20260422T112009Z
URL:https://business.harlingen.com/events/details/h-r-block-ribbon-cutting-at-district-office-01-07-2010-2291
END:VEVENT

END:VCALENDAR
